BEGIN:VCALENDAR
VERSION:2.0
PRODID:-//Hi5 Education Centres - ECPv6.15.11//NONSGML v1.0//EN
CALSCALE:GREGORIAN
METHOD:PUBLISH
X-ORIGINAL-URL:http://hi-5.es
X-WR-CALDESC:Eventos para Hi5 Education Centres
REFRESH-INTERVAL;VALUE=DURATION:PT1H
X-Robots-Tag:noindex
X-PUBLISHED-TTL:PT1H
BEGIN:VTIMEZONE
TZID:UTC
BEGIN:STANDARD
TZOFFSETFROM:+0000
TZOFFSETTO:+0000
TZNAME:UTC
DTSTART:20180101T000000
END:STANDARD
END:VTIMEZONE
BEGIN:VEVENT
DTSTART;TZID=UTC:20190826T080000
DTEND;TZID=UTC:20190906T170000
DTSTAMP:20260423T155256
CREATED:20190409T162035Z
LAST-MODIFIED:20190409T163610Z
UID:2149-1566806400-1567789200@hi-5.es
SUMMARY:Summer School - August/September
DESCRIPTION:Summer School agosto y septiembre en Hi5 \nDel 26 agosto al 6 de septiembre \n9:00 – 17:00
URL:http://hi-5.es/event/summer-school-august-september
LOCATION:Hi5 – Cortes Valencianas\, CALLE XIPRERS 13 BAJO\, VALENCIA\, VALENCIA\, 46015\, Spain
CATEGORIES:Hi5
ORGANIZER;CN="Hi5 Education Centres S.L.":MAILTO:admin@hi-5.es
END:VEVENT
BEGIN:VEVENT
DTSTART;TZID=UTC:20190624T080000
DTEND;TZID=UTC:20190731T170000
DTSTAMP:20260423T155256
CREATED:20190409T160719Z
LAST-MODIFIED:20190409T163615Z
UID:2141-1561363200-1564592400@hi-5.es
SUMMARY:Summer School 2019
DESCRIPTION:BÉTERA\n \nCORTES VALENCIANAS
URL:http://hi-5.es/event/summer-school-2019
LOCATION:Hi5 – Cortes Valencianas\, CALLE XIPRERS 13 BAJO\, VALENCIA\, VALENCIA\, 46015\, Spain
CATEGORIES:Hi5
ORGANIZER;CN="Hi5 Education Centres S.L.":MAILTO:admin@hi-5.es
END:VEVENT
BEGIN:VEVENT
DTSTART;TZID=UTC:20190603T130000
DTEND;TZID=UTC:20190621T170000
DTSTAMP:20260423T155256
CREATED:20190409T155028Z
LAST-MODIFIED:20190409T163621Z
UID:2135-1559566800-1561136400@hi-5.es
SUMMARY:School Lunch - Comedor escolar
DESCRIPTION:
URL:http://hi-5.es/event/school-lunch-comedor-escolar
LOCATION:VALENCIA
CATEGORIES:Hi5,Hi5 Café & Fun
END:VEVENT
BEGIN:VEVENT
DTSTART;TZID=UTC:20190423T090000
DTEND;TZID=UTC:20190426T170000
DTSTAMP:20260423T155256
CREATED:20190409T134137Z
LAST-MODIFIED:20190409T163626Z
UID:2119-1556010000-1556298000@hi-5.es
SUMMARY:Easter Funtime - Escuela de pascua
DESCRIPTION:Escuela de Pascua del 23 al 26 de abril \n9:00 – 17:00 \nEn Hi5 Cortes Valencianas y CEIP Camp de Túria\, Bétera. \n 
URL:http://hi-5.es/event/easter-funtime-escuela-de-pascua
LOCATION:Hi5 – Cortes Valencianas\, CALLE XIPRERS 13 BAJO\, VALENCIA\, VALENCIA\, 46015\, Spain
CATEGORIES:Hi5
ORGANIZER;CN="Hi5 Education Centres S.L.":MAILTO:admin@hi-5.es
END:VEVENT
BEGIN:VEVENT
DTSTART;TZID=UTC:20190413T100000
DTEND;TZID=UTC:20190413T133000
DTSTAMP:20260423T155256
CREATED:20190409T140434Z
LAST-MODIFIED:20190409T154603Z
UID:2129-1555149600-1555162200@hi-5.es
SUMMARY:The Cambridge Experience
DESCRIPTION:
URL:http://hi-5.es/event/the-cambridge-experience
LOCATION:VALENCIA
CATEGORIES:Staff Events
END:VEVENT
BEGIN:VEVENT
DTSTART;TZID=UTC:20190313T173000
DTEND;TZID=UTC:20190313T183000
DTSTAMP:20260423T155256
CREATED:20190409T163334Z
LAST-MODIFIED:20190409T163638Z
UID:2154-1552498200-1552501800@hi-5.es
SUMMARY:Cambridge Storytelling in Hi5
DESCRIPTION:
URL:http://hi-5.es/event/cambridge-storytelling-in-hi5
LOCATION:VALENCIA
CATEGORIES:Hi5
END:VEVENT
BEGIN:VEVENT
DTSTART;TZID=UTC:20190312T183000
DTEND;TZID=UTC:20190312T193000
DTSTAMP:20260423T155256
CREATED:20190409T163556Z
LAST-MODIFIED:20190409T163643Z
UID:2158-1552415400-1552419000@hi-5.es
SUMMARY:Cultural Quiz - Questionable
DESCRIPTION:
URL:http://hi-5.es/event/cultural-quiz-questionable
LOCATION:Hi5 – Cortes Valencianas\, CALLE XIPRERS 13 BAJO\, VALENCIA\, VALENCIA\, 46015\, Spain
CATEGORIES:Hi5
END:VEVENT
END:VCALENDAR