BEGIN:VCALENDAR
VERSION:2.0
PRODID:-//Hi5 Education Centres - ECPv6.15.11//NONSGML v1.0//EN
CALSCALE:GREGORIAN
METHOD:PUBLISH
X-WR-CALNAME:Hi5 Education Centres
X-ORIGINAL-URL:http://hi-5.es
X-WR-CALDESC:Eventos para Hi5 Education Centres
REFRESH-INTERVAL;VALUE=DURATION:PT1H
X-Robots-Tag:noindex
X-PUBLISHED-TTL:PT1H
BEGIN:VTIMEZONE
TZID:UTC
BEGIN:STANDARD
TZOFFSETFROM:+0000
TZOFFSETTO:+0000
TZNAME:UTC
DTSTART:20180101T000000
END:STANDARD
END:VTIMEZONE
BEGIN:VEVENT
DTSTART;VALUE=DATE:20200907
DTEND;VALUE=DATE:20210624
DTSTAMP:20260423T142316
CREATED:20200730T123745Z
LAST-MODIFIED:20200730T171442Z
UID:3152-1599436800-1624492799@hi-5.es
SUMMARY:Curso académico 20-21
DESCRIPTION:Matrícula abierta curso 2020-21\n\n\n\n\n\n\n\n\n\n\nMatrícula abierta para cursos de inglés presenciales u online\, para el curso académico de septiembre a junio.\n¡No esperes más y solicita tu plaza rellenando nuestro formulario de matrícula! \n¿Qué incluye mi curso?\n\n73 horas académicas anuales aproximadamente\n2 horas de inglés semanal (varía según los grupos)\nPrueba de nivel\nAsesoramiento académico\nClases con profesores titulados e internacionales\nCarpetas para los libros y todo el material escolar incluido\nEvaluación trimestral del progreso académico y reportes de notas trimestrales\nSimulacros de exámenes de Cambridge\nEventos sociales como cenas y tertulias para practicar tu inglés oral\nFiestas y eventos en HiFun Activity Centre\nDescuentos en Hi5 Café y HiFun.\n\n\n\n\n\n\nPara solicitar la matriculación en alguno de nuestros cursos debes rellenar el formulario correspondiente\, y nos pondremos en contacto contigo para formalizar la matrícula\, horarios y pagos correspondientes: \nFormulario Matrícula Curso 2020-21 – Hi5 Bétera\n\nFormulario Matrícula Curso 2020-21 – Hi5 Cortes Valencianas\n\nContacto:\nHi5 Education Centres \nC/Santos de la Piedra 3 bajo\, Bétera 961 046 592 – 620 942 044 betera@hi-5.es \nC/dels Xiprers 13 bajo\, Valencia 960 611 749 – 667 712 302 cortesvalencianas@hi-5.es
URL:http://hi-5.es/event/curso-academico-20-21
ATTACH;FMTTYPE=image/jpeg:http://hi-5.es/wp-content/uploads/2020/01/4.jpg
END:VEVENT
BEGIN:VEVENT
DTSTART;TZID=UTC:20200831T090000
DTEND;TZID=UTC:20200904T170000
DTSTAMP:20260423T142316
CREATED:20200730T122946Z
LAST-MODIFIED:20200730T122946Z
UID:3150-1598864400-1599238800@hi-5.es
SUMMARY:Back to school Funtime
DESCRIPTION:Escuela de verano en septiembre\nDel 31 de agosto al 4 de septiembre\nComo cada año\, Hi5 organiza la escuela de verano hasta el 31 de julio\, y para aquellos que necesiten dejar a los niños antes de empezar el cole en septiembre\, Hi5 ofrece el servicio de escuela de verano para niños a partir de 3 años\, horario de 9:00 a 14:00 o a 17:00. \nLos niños disfrutarán de clases de inglés por las mañanas\, talleres de yoga\, arte\, ciencias\, cocina\, baile y juegos\, mucha diversión en nuestro Activity Centre\, siguiendo todos los protocolos de higiene y seguridad recomendados frente al Covid-19. \nClases de inglés\nYoga & Fitness\nTalleres de arte\, cocina\, ciencias\nCocina propia\nParque infantil\nBaile y Karaoke\n\n\n\n\n\n\n\n\n\n\n\n\n\n\n\n\n\n\n\n\n*El desarrollo de las actividades en estas fechas está sujeta a que las condiciones sanitarias lo permitan y haya suficientes participantes matriculados para las mismas* \n*La matrícula debe hacerse online a través del formulario\, ya que nuestro personal estará de vacaciones del 1 al 23 de agosto. Nos pondremos en contacto a partir de esa fecha para formalizar la matriculación y el pago* \n\nPrecio la semana completa\ndesde 81€\n*con descuento aplicado del 10% hermanos y alumnos de Hi5 \n+ Información y precios \n\nMATRÍCULA SUMMER FUNTIME\nBÉTERA \nMATRÍCULA SUMMER FUNTIME\nCORTES VALENCIANAS
URL:http://hi-5.es/event/back-to-school-funtime
ATTACH;FMTTYPE=image/png:http://hi-5.es/wp-content/uploads/2020/07/back-to-school-hi5.png
END:VEVENT
BEGIN:VEVENT
DTSTART;TZID=UTC:20200629T090000
DTEND;TZID=UTC:20200731T170000
DTSTAMP:20260423T142316
CREATED:20200616T172034Z
LAST-MODIFIED:20200730T122839Z
UID:3065-1593421200-1596214800@hi-5.es
SUMMARY:Hi5 Summer Funtime 2020
DESCRIPTION:La escuela de verano está planificada para comenzar a partir del 29 de junio\, cumpliendo con los protocolos y medidas higiénicas y de seguridad ante el Covid-19. Procedemos a abrir el proceso de matriculación\, y el correspondiente pago se realizará dos semanas antes del comienzo del curso. \n\n\n\nEn Bétera y Cortes Valencianas – Del 29 de junio al 31 de junio\nComo cada año\, Hi5 organiza la Summer School durante todo el mes de julio y parte de junio\, agosto y septiembre. Este año añadimos el servicio en Hi5 Bétera\, en nuestro nuevo centro en el Boulevard de Bétera. \nCon clases de inglés para niños a partir de 3 años\, en horario de 9:00 a 14:00 o a 17:00\, con posibilidad de comida hasta las 15:00 y hora matinera desde las 8:00. \nLos niños disfrutarán de clases de inglés por las mañanas\, talleres de yoga\, arte\, ciencias\, cocina\, baile y juegos\, mucha diversión en nuestra ludoteca y parque de bolas  y este año\, también repaso de las asignaturas del cole. \nClases de inglés\nRepaso de todas las asignaturas en inglés\nParque infantil (este año se removerán las bolas para poder realizar una limpieza diaria apropiada del parque)\nCocina propia\nPosibilidad de contratar días o semanas sueltas\nHora matinera 8:00 y hora extra a partir de las 17:00\nProfesores nativos\, bilingües e internacionales\n\n\n\n\n\n\n\n\n\n\n\n\n\n\n\n\n\n\n\n\n\nProtocolo de seguridad Covid-19: \nSeguiremos una serie de protocolos de seguridad que os detallamos a continuación: \n\nSe proporcionará a los niños y monitores una mascarilla de tela lavable\, para ser utilizada en los momentos en los que el distanciamiento no sea posible\, y para uso de elementos comunes.\nGrupos reducidos y separación de puestos de trabajo en las aulas a 1.5m de distancia.\nSe tomará la temperatura de los niños todos los días por la mañana y se desinfectarán las manos a su llegada.\nSe seguirán los protocolos de higiene recomendados haciendo hincapié en el lavado de manos frecuente.\nSe enseñará a los niños a toser o estornudar de manera segura (con el codo).\nTendremos gel hidroalcohólico y pañuelos de papel disponibles y a mano en todo momento.\nSe procederá a la limpieza y desinfección diaria de todas las superficies y áreas comunes.\nLas bolas en el parque serán removidas\, para poder desinfectar el parque por completo todos los días de manera efectiva.\nEste año no se realizarán juegos con agua.\nEn el caso de no poder realizarse la Summer Funtime por motivos sanitarios\, la empresa devolverá el importe de manera íntegra a todos los que hayan pagado la matrícula.\n\n¡Matrícula abierta!\nEnvía tus datos y te contactaremos para formalizar el registro y el pago durante el mes de junio. \nLa matrícula se debe realizar antes del 15 de junio 2020 \n+ Información y precios\n\n\n\nMATRÍCULA SUMMER FUNTIME\nBÉTERA\n\n\nMATRÍCULA SUMMER FUNTIME\nCORTES VALENCIANAS
URL:http://hi-5.es/event/hi5-summer-funtime-2020
ATTACH;FMTTYPE=image/jpeg:http://hi-5.es/wp-content/uploads/2020/05/DSC0578.jpg
ORGANIZER;CN="Hi5 Education Centres S.L.":MAILTO:admin@hi-5.es
END:VEVENT
BEGIN:VEVENT
DTSTART;TZID=UTC:20200222T203000
DTEND;TZID=UTC:20200222T233000
DTSTAMP:20260423T142316
CREATED:20200109T132738Z
LAST-MODIFIED:20200109T152334Z
UID:2489-1582403400-1582414200@hi-5.es
SUMMARY:Carnival Party in Hi5 Café & Fun
DESCRIPTION:Fiesta de Disfraces en Hi5\nEste sábado 22 de febrero no te pierdas la fiesta de disfraces en Hi5 Café & Fun! \n20:30 -23:30 \nMenú adultos 15€\nNiños 11€\nTodo incluido. \n  \n¡Te esperamos! \nReservas: \n—– \n Hi5 Café & Fun – Valencia \n960 611 749 / 648 661 674 \nCalle Córdoba 5 bajo. (Detrás del Casino Cirsa) Valencia 46015 hifun@hi-5.es \n —— \nHi5 Café & Fun – Bétera \n961 046 592 / 648 688 896 \nC/Santos de la Piedra 3 bajo. Bétera 46117 hi5cafebetera@hi-5.es  \n 
URL:http://hi-5.es/event/carnival-party-in-hi5-cafe-fun
LOCATION:Hi5 Café
ATTACH;FMTTYPE=image/jpeg:http://hi-5.es/wp-content/uploads/2020/01/PIRATE-PARTY.jpg
END:VEVENT
BEGIN:VEVENT
DTSTART;TZID=UTC:20200214T203000
DTEND;TZID=UTC:20200214T233000
DTSTAMP:20260423T142316
CREATED:20200105T140126Z
LAST-MODIFIED:20200109T150708Z
UID:2485-1581712200-1581723000@hi-5.es
SUMMARY:Fiesta San Valentín en Hi5 Café & Fun
DESCRIPTION:Fiesta San Valentín en Hi5 Café & Fun\n\nEste 14 de febrero de 20:30-23:30 ven a cenar en Hi5 Café & Fun para que tengáis una velada tranquila y romántica y nosotros como siempre\, ¡Nos encargamos de los niños! \n\nMenú especial San Valentín parejas: 30€/pareja.   \nMenú infantil 11€.
URL:http://hi-5.es/event/fiesta-san-valentin-en-hi5-cafe-fun
LOCATION:Hi5 Café
CATEGORIES:Hi5 Café & Fun
ATTACH;FMTTYPE=image/png:http://hi-5.es/wp-content/uploads/2020/01/san-valentin-hi5.png
ORGANIZER;CN="Hi5 Education Centres S.L.":MAILTO:admin@hi-5.es
END:VEVENT
BEGIN:VEVENT
DTSTART;TZID=UTC:20200210T080000
DTEND;TZID=UTC:20200210T170000
DTSTAMP:20260423T142316
CREATED:20200210T125333Z
LAST-MODIFIED:20200210T181816Z
UID:2603-1581321600-1581354000@hi-5.es
SUMMARY:Fallas Funtime
DESCRIPTION:Fallas Funtime 2020\n16\, 17\, 18 y 20 de marzo 2020\nMañanas: 9:00 a 14:00 \nDía completo: 9:00 a 17:00 \n\n\nMatrícula online abierta\n\nTalleres falleros\, globotá\, Experimentos de ciencias\, cocina\, manualidades\, música en inglés\, baile\, yoga\, parque de bolas y \n¡Mucha diversión en inglés! \nOpción sólo mañanas\, días sueltos con o sin comedor \nContacto: \nC/dels Xiprers 13 bajo. \n667712302 – 960611749 \ncortesvalencianas@hi-5.es
URL:http://hi-5.es/event/fallas-funtime
END:VEVENT
BEGIN:VEVENT
DTSTART;TZID=UTC:20191231T210000
DTEND;TZID=UTC:20200101T013000
DTSTAMP:20260423T142316
CREATED:20191118T102950Z
LAST-MODIFIED:20191118T105400Z
UID:2394-1577826000-1577842200@hi-5.es
SUMMARY:New Year's Party in Hi5
DESCRIPTION:
URL:http://hi-5.es/event/new-years-party-in-hi5
CATEGORIES:Hi5,Hi5 Café & Fun
ATTACH;FMTTYPE=image/jpeg:http://hi-5.es/wp-content/uploads/2019/11/cena-nochevieja-2019.jpg
END:VEVENT
BEGIN:VEVENT
DTSTART;TZID=UTC:20191223T090000
DTEND;TZID=UTC:20200103T170000
DTSTAMP:20260423T142316
CREATED:20191118T104955Z
LAST-MODIFIED:20191227T110838Z
UID:2403-1577091600-1578070800@hi-5.es
SUMMARY:Christmas Funtime - Escuela de Navidad
DESCRIPTION:¡Vive la magia de la Navidad en Hi5! \n\nEscuela de Navidad en inglés para niños a partir de 3 años  \n23\, 24\, 26 y 27  de diciembre  \n9.00 – 13.00 / 9.00 – 17.00 \nTalleres de cocina\, cookies y manualidades navideñas\, villancicos en inglés\, parque de bolas ¡y mucho más! Opción a comedor con cocina propia y monitores bilingües. \n*Actividad sujeta a confirmar\, con un mínimo de 10 participantes por centro.
URL:http://hi-5.es/event/christmas-funtime
CATEGORIES:Hi5
ATTACH;FMTTYPE=image/jpeg:http://hi-5.es/wp-content/uploads/2016/11/IMG_2556-1-e1668183416259.jpg
END:VEVENT
BEGIN:VEVENT
DTSTART;TZID=UTC:20191218T153000
DTEND;TZID=UTC:20191220T183000
DTSTAMP:20260423T142316
CREATED:20191118T103755Z
LAST-MODIFIED:20191118T105234Z
UID:2397-1576683000-1576866600@hi-5.es
SUMMARY:Christmas Festival in Hi5
DESCRIPTION:¡No os perdáis las actuaciones de los alumnos de Hi5! \n El miércoles 18\, jueves 19 y viernes 20 de diciembre haremos el festival de Christmas con una pequeña representación para los padres de los alumnos de infantil y primaria\, durante su respectiva hora de clases.
URL:http://hi-5.es/event/christmas-festival-in-hi5
CATEGORIES:Hi5
ATTACH;FMTTYPE=image/jpeg:http://hi-5.es/wp-content/uploads/2016/11/IMG_2503.jpg
END:VEVENT
BEGIN:VEVENT
DTSTART;TZID=UTC:20191031T180000
DTEND;TZID=UTC:20191031T233000
DTSTAMP:20260423T142316
CREATED:20191118T102543Z
LAST-MODIFIED:20191118T102635Z
UID:2392-1572544800-1572564600@hi-5.es
SUMMARY:Halloween Party
DESCRIPTION:
URL:http://hi-5.es/event/halloween-party
CATEGORIES:Hi5,Hi5 Café & Fun
END:VEVENT
BEGIN:VEVENT
DTSTART;TZID=UTC:20190826T080000
DTEND;TZID=UTC:20190906T170000
DTSTAMP:20260423T142316
CREATED:20190409T162035Z
LAST-MODIFIED:20190409T163610Z
UID:2149-1566806400-1567789200@hi-5.es
SUMMARY:Summer School - August/September
DESCRIPTION:Summer School agosto y septiembre en Hi5 \nDel 26 agosto al 6 de septiembre \n9:00 – 17:00
URL:http://hi-5.es/event/summer-school-august-september
LOCATION:Hi5 – Cortes Valencianas\, CALLE XIPRERS 13 BAJO\, VALENCIA\, VALENCIA\, 46015\, Spain
CATEGORIES:Hi5
ORGANIZER;CN="Hi5 Education Centres S.L.":MAILTO:admin@hi-5.es
END:VEVENT
BEGIN:VEVENT
DTSTART;TZID=UTC:20190624T080000
DTEND;TZID=UTC:20190731T170000
DTSTAMP:20260423T142316
CREATED:20190409T160719Z
LAST-MODIFIED:20190409T163615Z
UID:2141-1561363200-1564592400@hi-5.es
SUMMARY:Summer School 2019
DESCRIPTION:BÉTERA\n \nCORTES VALENCIANAS
URL:http://hi-5.es/event/summer-school-2019
LOCATION:Hi5 – Cortes Valencianas\, CALLE XIPRERS 13 BAJO\, VALENCIA\, VALENCIA\, 46015\, Spain
CATEGORIES:Hi5
ORGANIZER;CN="Hi5 Education Centres S.L.":MAILTO:admin@hi-5.es
END:VEVENT
BEGIN:VEVENT
DTSTART;TZID=UTC:20190603T130000
DTEND;TZID=UTC:20190621T170000
DTSTAMP:20260423T142316
CREATED:20190409T155028Z
LAST-MODIFIED:20190409T163621Z
UID:2135-1559566800-1561136400@hi-5.es
SUMMARY:School Lunch - Comedor escolar
DESCRIPTION:
URL:http://hi-5.es/event/school-lunch-comedor-escolar
CATEGORIES:Hi5,Hi5 Café & Fun
END:VEVENT
BEGIN:VEVENT
DTSTART;TZID=UTC:20190423T090000
DTEND;TZID=UTC:20190426T170000
DTSTAMP:20260423T142316
CREATED:20190409T134137Z
LAST-MODIFIED:20190409T163626Z
UID:2119-1556010000-1556298000@hi-5.es
SUMMARY:Easter Funtime - Escuela de pascua
DESCRIPTION:Escuela de Pascua del 23 al 26 de abril \n9:00 – 17:00 \nEn Hi5 Cortes Valencianas y CEIP Camp de Túria\, Bétera. \n 
URL:http://hi-5.es/event/easter-funtime-escuela-de-pascua
LOCATION:Hi5 – Cortes Valencianas\, CALLE XIPRERS 13 BAJO\, VALENCIA\, VALENCIA\, 46015\, Spain
CATEGORIES:Hi5
ORGANIZER;CN="Hi5 Education Centres S.L.":MAILTO:admin@hi-5.es
END:VEVENT
BEGIN:VEVENT
DTSTART;TZID=UTC:20190413T100000
DTEND;TZID=UTC:20190413T133000
DTSTAMP:20260423T142316
CREATED:20190409T140434Z
LAST-MODIFIED:20190409T154603Z
UID:2129-1555149600-1555162200@hi-5.es
SUMMARY:The Cambridge Experience
DESCRIPTION:
URL:http://hi-5.es/event/the-cambridge-experience
CATEGORIES:Staff Events
END:VEVENT
BEGIN:VEVENT
DTSTART;TZID=UTC:20190313T173000
DTEND;TZID=UTC:20190313T183000
DTSTAMP:20260423T142316
CREATED:20190409T163334Z
LAST-MODIFIED:20190409T163638Z
UID:2154-1552498200-1552501800@hi-5.es
SUMMARY:Cambridge Storytelling in Hi5
DESCRIPTION:
URL:http://hi-5.es/event/cambridge-storytelling-in-hi5
CATEGORIES:Hi5
END:VEVENT
BEGIN:VEVENT
DTSTART;TZID=UTC:20190312T183000
DTEND;TZID=UTC:20190312T193000
DTSTAMP:20260423T142316
CREATED:20190409T163556Z
LAST-MODIFIED:20190409T163643Z
UID:2158-1552415400-1552419000@hi-5.es
SUMMARY:Cultural Quiz - Questionable
DESCRIPTION:
URL:http://hi-5.es/event/cultural-quiz-questionable
LOCATION:Hi5 – Cortes Valencianas\, CALLE XIPRERS 13 BAJO\, VALENCIA\, VALENCIA\, 46015\, Spain
CATEGORIES:Hi5
END:VEVENT
END:VCALENDAR